BEGIN:VCALENDAR
VERSION:2.0
PRODID:-//Café Exodus - ECPv4.6.26.1//NONSGML v1.0//EN
CALSCALE:GREGORIAN
METHOD:PUBLISH
X-WR-CALNAME:Café Exodus
X-ORIGINAL-URL:https://cafe-exodus.de
X-WR-CALDESC:Veranstaltungen für Café Exodus
BEGIN:VEVENT
DTSTART;TZID=Europe/Berlin:20251205T180000
DTEND;TZID=Europe/Berlin:20251205T233000
DTSTAMP:20260424T172528
CREATED:20251119T125351Z
LAST-MODIFIED:20251119T125503Z
UID:4566-1764957600-1764977400@cafe-exodus.de
SUMMARY:Nikolausrock reloaded
DESCRIPTION:Kostenloses Rockkonzert am Nikolausabend in Saarbrücken\nAm 05. Dezember lädt der AK Rock des Café Exodus zum Nikolausrock ins Studio 30 (Mainzerstr. 30\, Saarbrücken) ein. \nAb 18 Uhr startet der Einlass\, um 19 Uhr gehts los\, der Eintritt ist KOSTENLOS!! \nMit dabei sind die Bands OCC (@occ.band)\, Hummingbird (@humming_bird_official) und Suicide Sailor (@suicide.sailor). \nKommt vorbei und feiert mit uns\, es wird laut und gut und lustig! \nIhr habt auch Lust Konzerte und Events zu organisieren oder euch kreativ zu engagieren und einzubringen? Dann kommt doch mal im Exodus (Johannisstr. 9\, Saarbrücken) vorbei\, wir haben Mo-Fr geöffnet\, die aktuellen Zeiten findet ihr am einfachsten über unsere Insta Seite @cafeexodus. Wir freuen uns auf Euch! \n\n\n	\n
URL:https://cafe-exodus.de/event/nikolausrock-reloaded/
ATTACH;FMTTYPE=image/jpeg:https://cafe-exodus.de/wp-content/uploads/2025/11/nikolausrock.jpeg
END:VEVENT
END:VCALENDAR