BEGIN:VCALENDAR
VERSION:2.0
PRODID:-//Café Exodus - ECPv4.6.26.1//NONSGML v1.0//EN
CALSCALE:GREGORIAN
METHOD:PUBLISH
X-WR-CALNAME:Café Exodus
X-ORIGINAL-URL:https://cafe-exodus.de
X-WR-CALDESC:Veranstaltungen für Café Exodus
BEGIN:VEVENT
DTSTART;TZID=Europe/Berlin:20251128T180000
DTEND;TZID=Europe/Berlin:20251128T213000
DTSTAMP:20260424T173145
CREATED:20251119T125224Z
LAST-MODIFIED:20251119T125544Z
UID:4561-1764352800-1764365400@cafe-exodus.de
SUMMARY:Monsterhunter Bootcamp
DESCRIPTION:Lass dich vom AK NØØØRD zum zertifizierten Monsterhunter ausbilden\nDie Bedrohungslage ist unübersichtlich! Dringend werden neue Monsterjäger benötigt! Das ist deine Chance deine Fähigkeiten unter Beweis zu stellen und neue Skills zu erlernen. \nLass dich am Freitag\, 28.11. von den Expert*innen des AK NØØØRD des Café Exodus zum &#8222;zertifizierten Monsterhunter&#8220; ausbilden. \nVerschiedene Quests und Prüfungen\, die ihr im Team bestehen müsst\, bereiten euch auf eure zukünftige Aufgabe als Monsterjäger vor. \nUm 18:00 Uhr geht es los im Café Exodus in Saarbrücken (Johannisstr. 9)\, es wird auch eine Kleinigkeit zum Essen geben. \nEintritt 2€ (inkl. Essen) &#8211; wer verkleidet kommt zahlt nur 1€! \nWeitere Infos vor Ort oder unter 0681 371416 oder treff@cafe-exodus.de. \n\n\n	\n
URL:https://cafe-exodus.de/event/monsterhunter-bootcamp/
ATTACH;FMTTYPE=image/jpeg:https://cafe-exodus.de/wp-content/uploads/2025/11/Monsterhunter-28.11.-Plakat.jpeg
END:VEVENT
END:VCALENDAR