BEGIN:VCALENDAR
VERSION:2.0
PRODID:-//Café Exodus - ECPv4.6.26.1//NONSGML v1.0//EN
CALSCALE:GREGORIAN
METHOD:PUBLISH
X-WR-CALNAME:Café Exodus
X-ORIGINAL-URL:https://cafe-exodus.de
X-WR-CALDESC:Veranstaltungen für Café Exodus
BEGIN:VEVENT
DTSTART;TZID=Europe/Berlin:20210910T170000
DTEND;TZID=Europe/Berlin:20210910T220000
DTSTAMP:20260424T191344
CREATED:20210909T112322Z
LAST-MODIFIED:20210909T112322Z
UID:4359-1631293200-1631311200@cafe-exodus.de
SUMMARY:Mario Kart Turnier
DESCRIPTION:Die Ferien sind rum und wir sind wieder zurück\, natürlich in Real Live! \nDer AK Nerd hat ein sensationelles\, spektakuläres\, ATEMBERAUBENDES Event für euch am Start. \nAm Freitag\, 10. September um 17:00 Uhr gibt&#8217;s ein MARIO KART TURNIER! \nAnmeldung bis Donnerstag 09. September an treff@cafe-exodus.de \n\n\n	\n
URL:https://cafe-exodus.de/event/mario-kart-turnier/
ATTACH;FMTTYPE=image/jpeg:https://cafe-exodus.de/wp-content/uploads/2021/09/IMG_20210903_175804_679.jpg
END:VEVENT
END:VCALENDAR