BEGIN:VCALENDAR
VERSION:2.0
PRODID:-//CafÃ© Exodus - ECPv4.6.26.1//NONSGML v1.0//EN
CALSCALE:GREGORIAN
METHOD:PUBLISH
X-WR-CALNAME:CafÃ© Exodus
X-ORIGINAL-URL:https://cafe-exodus.de
X-WR-CALDESC:Veranstaltungen fÃ¼r CafÃ© Exodus
BEGIN:VEVENT
DTSTART;TZID=Europe/Berlin:20230728T160000
DTEND;TZID=Europe/Berlin:20230730T140000
DTSTAMP:20260424T172853
CREATED:20230616T095610Z
LAST-MODIFIED:20230616T095610Z
UID:4500-1690560000-1690725600@cafe-exodus.de
SUMMARY:LARP (Life Action Roleplay)
DESCRIPTION:Seyd gegrÃ¼ÃŸt\, werthe Edelleuthe! \n  \nHabt ihr Lust auf ein Wochenende voller Abenteuer\, Kampf und Spannung? Dann findet euch vom 28. bis zum 30. JuleyÂ auf unserem LARP ein. Wir versprechen Schlachten\, Magie und jede Menge SpaÃŸ! Wehrt euch gemeinsam mit den anderen aus dem Volk gegen die Tyranney des HerrscherkÃ¶nigs oder helfet dem Adel\, den aufmÃ¼pfigen PÃ¶bel unter Kontrolle zu bringen! Es liegt an euch\, das Schicksal unseres Volkhes und des gesamten KÃ¶nigreyches zu entscheiden! \n  \n  \nWas du wissen musst: \nDas LARP findet im Rahmen der Offenen Jugendarbeit/Jugendkulturarbeit des CafÃ© Exodus statt. Es will Jugendliche und junge Erwachsenen von 16 bis 27 Jahren eine niedrigschwellige Teilnahme an einem LARP ermÃ¶glichen\, also von und fÃ¼r Noobs. Das Event wird von Jugendlichen selbst organisiert und angeboten. Diese agieren beim Event als NPCâ€™s und stehen fÃ¼r Fragen zur VerfÃ¼gung\, eine hauptamtliche Person ist anwesend. Insgesamt werden ca. 10 Helfer*innen vor Ort sein\, es kÃ¶nnen 30 Personen teilnehmen. Das Setting spielt in einer Fantasy-Mittelalterwelt. \n\nJede/r Teilnehmende tritt als Charakter mit entsprechender Verkleidung und â€žBewaffnungâ€œ auf. Solltest du keine â€žWaffeâ€œ im Sinne des LARP herstellen kÃ¶nnen\, wende dich gerne an uns. Deinen Charakter und deine FÃ¤higkeiten kannst du unten im Bogen eintragen. Die Teams werden im Vorfeld nach FÃ¤higkeiten ausgeglichenen zugeteilt.\nRegeln vor Ort: allgemeine Benimmregeln\, kein Sexismus\, keine Homophobie\, keine Diskriminierung\, es wird ein â€žSavewordâ€œ benannt und es wird Awearness-Ansprechpartner geben. Die Nachtruhe soll respektiert werden. Es ist nicht vorgesehen\, dass es Pausen gibt\, bei denen das GelÃ¤nde verlassen werden muss.\nEs gibt drei Mahlzeiten pro Tag\nWir verlassen das GelÃ¤nde so\, wie wir es vorgefunden haben\, es darf nichts zurÃ¼ckgelassen werden.\nKeine Drogen\, kein eigener Alkohol (An der Taverne gibt es auÃŸerhalb der Spielzeiten Bier zu kaufen)\nSpielregeln: Du kannst was du spielen kannst\, es gilt ein Ehrensystem (wer getroffen ist\, muss ehrlich sein) du kannst dich nach dem Tod freiquesten\, keine verletzenden SchlÃ¤ge mit den â€žWaffenâ€œ\, genaue Infos zu Magie- und Kampfregeln folgen\nDie Story und das Spielen der Rollen soll erst genommen werden\, der SpaÃŸ soll aber im Vordergrund stehen und es geht nicht um historische Genauigkeit\nJede/r Ã¼bernimmt einmal KÃ¼chendienst\nEs gibt Duschen und WCâ€˜s\nWir haben flieÃŸendes Wasser und Strom\nFÃ¼r eine Verbindliche Anmeldung und zum decken der Kosten erheben wir 25\,00 Euro TN-GebÃ¼hr\n\n  \nWo? \nDPSG Zeltplatz WikingerhÃ¶he \nSchachtstraÃŸe 11a \n66299 Friedrichsthal \nWeitere Infos zu Lage und Anfahrt werden mit der AnmeldebestÃ¤tigung zugesendet. Der Platz ist mit dem Zug und einem kurzen FuÃŸweg zu erreichen. \n  \nAblauf \n\nFreitag 28.07.\, 16:00 Uhr Anreise\n\nAufbau der Zelte\, erste Orientierung \n18:00 Uhr Abendessen \n19:00 Uhr Spielbeginn \n\nSamstag 29.07. Spieltag\nSonntag 30.7.\, 13:00 Uhr Spielende\n\nAnschlieÃŸend Abbau und gemeinsamer gemÃ¼tlicher Abschluss. Die Anreise muss selbst organisiert werden. \n  \nVerbindliche Anmeldung  \nÂ  \nDer Anmeldeschluss ist der 28. Juni per \nE-Mail an treff@cafe-exodus.de incl. RÃ¼ckmeldebogen Charakter und gleichzeitig BankÃ¼berweisung des Teilnahmebetrags. \nDer Teilnahmebeitrag muss bis zum Anmeldeschluss auf folgendes Konto Ã¼berwiesen werden: \nSparkasse SaarbrÃ¼cken \nKontoinhaber: Bistum Trier \nIBAN: DE31 5905 0101 0090 0086 73 \nBIC: SAKSDE55XXX \n  \n  \n  \nDu brauchst: \n\nKostÃ¼m und â€žWaffeâ€œ\nWeiterhin dem Wetter entsprechende Kleidung\nZelt\, Schlafsack\, Isomatte\, Trinkwasser\, persÃ¶nliche Dinge des tÃ¤glichen Bedarfs\nSnacks und Ã¤hnliches Ã¼ber die Mahlzeiten hinaus nach persÃ¶nlichem Bedarf (nur was im Zelt gelagert werden kann)\nEigene Becher\, Teller und Besteck\nTaschenlampe (das GelÃ¤nde ist nicht ausgeleuchtet)\n\n\n\n	\n
URL:https://cafe-exodus.de/event/larp-life-action-roleplay/
ATTACH;FMTTYPE=image/jpeg:https://cafe-exodus.de/wp-content/uploads/2023/06/Plakat-LARP-Cafe-Exodus-scaled-e1686908903902.jpg
END:VEVENT
END:VCALENDAR