BEGIN:VCALENDAR
VERSION:2.0
PRODID:-//Café Exodus - ECPv4.6.26.1//NONSGML v1.0//EN
CALSCALE:GREGORIAN
METHOD:PUBLISH
X-WR-CALNAME:Café Exodus
X-ORIGINAL-URL:https://cafe-exodus.de
X-WR-CALDESC:Veranstaltungen für Café Exodus
BEGIN:VEVENT
DTSTART;TZID=Europe/Berlin:20251219T180000
DTEND;TZID=Europe/Berlin:20251219T233000
DTSTAMP:20260424T173017
CREATED:20251119T130053Z
LAST-MODIFIED:20251119T130118Z
UID:4572-1766167200-1766187000@cafe-exodus.de
SUMMARY:Exodus Weihnachtsfeier
DESCRIPTION:Am 19.Dezember laden wir zur Weihnachtsfeier ein. Merkt euch den Termin vor\, weitere Infos folgen! \n\n\n	\n
URL:https://cafe-exodus.de/event/exodus-weihnachtsfeier/
ATTACH;FMTTYPE=image/png:https://cafe-exodus.de/wp-content/uploads/2025/11/Exodus-Neu.png
END:VEVENT
END:VCALENDAR